BEGIN:VCALENDAR
PRODID:-//eluceo/ical//2.0/EN
VERSION:2.0
CALSCALE:GREGORIAN
BEGIN:VEVENT
UID:85a59dc1f6706930f18fa175b3f7a072
DTSTAMP:20260421T093826Z
SUMMARY:AIPAC NE Dinner
DESCRIPTION:Jewish Federation of Central Massachusetts\nCalendar\nhttps://j
 ewishcentralmass.org/calendar/20cal764\n\nAIPAC NE Dinner
DTSTART;TZID=America/New_York:20200426T000000
DTEND;TZID=America/New_York:20200426T235959
END:VEVENT
END:VCALENDAR
