BEGIN:VCALENDAR
PRODID:-//eluceo/ical//2.0/EN
VERSION:2.0
CALSCALE:GREGORIAN
BEGIN:VEVENT
UID:fcf733b243e14afec73af2dc41a76a2e
DTSTAMP:20260422T221608Z
SUMMARY:Hadassah Donor Brunch
DESCRIPTION:Jewish Federation of Central Massachusetts\nCalendar\nhttps://j
 ewishcentralmass.org/calendar/20cal763\n\nHadassah Donor Brunch
DTSTART;TZID=America/New_York:20200426T113000
DTEND;TZID=America/New_York:20200426T235959
END:VEVENT
END:VCALENDAR
