BEGIN:VCALENDAR
PRODID:-//eluceo/ical//2.0/EN
VERSION:2.0
CALSCALE:GREGORIAN
BEGIN:VEVENT
UID:07837a3eee5255184ca57ec110249a96
DTSTAMP:20260423T100819Z
SUMMARY:Temple Emanuel Sinai Speaker
DESCRIPTION:Jewish Federation of Central Massachusetts\nCalendar\nhttps://j
 ewishcentralmass.org/calendar/20cal762\n\nTemple Emanuel Sinai Speaker
DTSTART;TZID=America/New_York:20200426T093000
DTEND;TZID=America/New_York:20200426T235959
END:VEVENT
END:VCALENDAR
