BEGIN:VCALENDAR
PRODID:-//eluceo/ical//2.0/EN
VERSION:2.0
CALSCALE:GREGORIAN
BEGIN:VEVENT
UID:bddff2295813130ebf44231e39ab1a34
DTSTAMP:20260423T173856Z
SUMMARY:Yom Hashoah
DESCRIPTION:Jewish Federation of Central Massachusetts\nCalendar\nhttps://j
 ewishcentralmass.org/calendar/20cal760\n\nYom Hashoah
DTSTART;TZID=America/New_York:20200421T000100
DTEND;TZID=America/New_York:20200421T235959
END:VEVENT
END:VCALENDAR
