BEGIN:VCALENDAR
PRODID:-//eluceo/ical//2.0/EN
VERSION:2.0
CALSCALE:GREGORIAN
BEGIN:VEVENT
UID:e26b376d648232377327f23929c0e096
DTSTAMP:20260423T212147Z
SUMMARY:Temple Emanuel Sinai Board Meeting
DESCRIPTION:Jewish Federation of Central Massachusetts\nCalendar\nhttps://j
 ewishcentralmass.org/calendar/20cal756\n\nTemple Emanuel Sinai Board Meeti
 ng
DTSTART;TZID=America/New_York:20200413T193000
DTEND;TZID=America/New_York:20200413T235959
END:VEVENT
END:VCALENDAR
