BEGIN:VCALENDAR
PRODID:-//eluceo/ical//2.0/EN
VERSION:2.0
CALSCALE:GREGORIAN
BEGIN:VEVENT
UID:ca0e9b64b8e8c32cad60e36314b541d3
DTSTAMP:20260422T212322Z
SUMMARY:Congregation B'nai Shalom & Beth Tikvah Tot Shabbat Service
DESCRIPTION:Jewish Federation of Central Massachusetts\nCalendar\nhttps://j
 ewishcentralmass.org/calendar/20cal755\n\nCongregation B'nai Shalom & Beth
  Tikvah Tot Shabbat Service
DTSTART;TZID=America/New_York:20200411T101500
DTEND;TZID=America/New_York:20200420T235959
END:VEVENT
END:VCALENDAR
