BEGIN:VCALENDAR
PRODID:-//eluceo/ical//2.0/EN
VERSION:2.0
CALSCALE:GREGORIAN
BEGIN:VEVENT
UID:21fe14948c76e7ba294a74a1624c3d3c
DTSTAMP:20260424T081729Z
SUMMARY:Temple Emanuel Sinai community wide Seder
DESCRIPTION:Jewish Federation of Central Massachusetts\nCalendar\nhttps://j
 ewishcentralmass.org/calendar/20cal753\n\nTemple Emanuel Sinai community w
 ide Seder
DTSTART;TZID=America/New_York:20200409T180000
DTEND;TZID=America/New_York:20200409T235959
END:VEVENT
END:VCALENDAR
