BEGIN:VCALENDAR
PRODID:-//eluceo/ical//2.0/EN
VERSION:2.0
CALSCALE:GREGORIAN
BEGIN:VEVENT
UID:ca1d54485fe1b63768077adfa3789d2c
DTSTAMP:20260422T232419Z
SUMMARY:Passover
DESCRIPTION:Jewish Federation of Central Massachusetts\nCalendar\nhttps://j
 ewishcentralmass.org/calendar/20cal752\n\nPassover
DTSTART;TZID=America/New_York:20200409T000100
DTEND;TZID=America/New_York:20200416T235959
END:VEVENT
END:VCALENDAR
