BEGIN:VCALENDAR
PRODID:-//eluceo/ical//2.0/EN
VERSION:2.0
CALSCALE:GREGORIAN
BEGIN:VEVENT
UID:c940ff7f22a9f229a7974ee31b29947b
DTSTAMP:20260422T043134Z
SUMMARY:First Seder
DESCRIPTION:Jewish Federation of Central Massachusetts\nCalendar\nhttps://j
 ewishcentralmass.org/calendar/20cal751\n\nFirst Seder
DTSTART;TZID=America/New_York:20200408T000100
DTEND;TZID=America/New_York:20200408T235959
END:VEVENT
END:VCALENDAR
