BEGIN:VCALENDAR
PRODID:-//eluceo/ical//2.0/EN
VERSION:2.0
CALSCALE:GREGORIAN
BEGIN:VEVENT
UID:18627613af8c6562877b275fa97ad777
DTSTAMP:20260422T061338Z
SUMMARY:Beth Tikvah Board Meeting
DESCRIPTION:Jewish Federation of Central Massachusetts\nCalendar\nhttps://j
 ewishcentralmass.org/calendar/20cal750\n\nBeth Tikvah Board Meeting
DTSTART;TZID=America/New_York:20200405T190000
DTEND;TZID=America/New_York:20200405T235959
END:VEVENT
END:VCALENDAR
