BEGIN:VCALENDAR
PRODID:-//eluceo/ical//2.0/EN
VERSION:2.0
CALSCALE:GREGORIAN
BEGIN:VEVENT
UID:ad26f0d664fe6f7de7e425be7d6d787c
DTSTAMP:20260424T011644Z
SUMMARY:PJ Library @ Beth Tikvah
DESCRIPTION:Jewish Federation of Central Massachusetts\nCalendar\nhttps://j
 ewishcentralmass.org/calendar/20cal748\n\nPJ Library @ Beth Tikvah
DTSTART;TZID=America/New_York:20200405T091500
DTEND;TZID=America/New_York:20200405T235959
END:VEVENT
END:VCALENDAR
