BEGIN:VCALENDAR
PRODID:-//eluceo/ical//2.0/EN
VERSION:2.0
CALSCALE:GREGORIAN
BEGIN:VEVENT
UID:b9cb9699d7c4ee444a339e77643d39ec
DTSTAMP:20260422T170536Z
SUMMARY:Jewish Federation of Central Mass Board Meeting
DESCRIPTION:Jewish Federation of Central Massachusetts\nCalendar\nhttps://j
 ewishcentralmass.org/calendar/20cal747\n\nJewish Federation of Central Mas
 s Board Meeting
DTSTART;TZID=America/New_York:20200331T193000
DTEND;TZID=America/New_York:20200331T235959
END:VEVENT
END:VCALENDAR
