BEGIN:VCALENDAR
PRODID:-//eluceo/ical//2.0/EN
VERSION:2.0
CALSCALE:GREGORIAN
BEGIN:VEVENT
UID:b97dc7722662af9b69f9715e27ed0747
DTSTAMP:20260423T010204Z
SUMMARY:Jewish Federation of Central Mass Life & Legacy Workshop
DESCRIPTION:Jewish Federation of Central Massachusetts\nCalendar\nhttps://j
 ewishcentralmass.org/calendar/20cal746\n\nJewish Federation of Central Mas
 s Life & Legacy Workshop
DTSTART;TZID=America/New_York:20200330T183000
DTEND;TZID=America/New_York:20200330T235959
END:VEVENT
END:VCALENDAR
