BEGIN:VCALENDAR
PRODID:-//eluceo/ical//2.0/EN
VERSION:2.0
CALSCALE:GREGORIAN
BEGIN:VEVENT
UID:39f82b9748bcf99742a0eeb91dad1903
DTSTAMP:20260423T064643Z
SUMMARY:Congregation B'nai Shalom Nifty-NE Reg Spring Event
DESCRIPTION:Jewish Federation of Central Massachusetts\nCalendar\nhttps://j
 ewishcentralmass.org/calendar/20cal743\n\nCongregation B'nai Shalom Nifty-
 NE Reg Spring Event
DTSTART;TZID=America/New_York:20200327T190000
DTEND;TZID=America/New_York:20200329T235959
END:VEVENT
END:VCALENDAR
