BEGIN:VCALENDAR
PRODID:-//eluceo/ical//2.0/EN
VERSION:2.0
CALSCALE:GREGORIAN
BEGIN:VEVENT
UID:097869d6ec8ee6c4343fe6e9c0e2d942
DTSTAMP:20260423T212546Z
SUMMARY:Jewish Community Center Board Meeting
DESCRIPTION:Jewish Federation of Central Massachusetts\nCalendar\nhttps://j
 ewishcentralmass.org/calendar/20cal742\n\nJewish Community Center Board Me
 eting
DTSTART;TZID=America/New_York:20200326T193000
DTEND;TZID=America/New_York:20200326T235959
END:VEVENT
END:VCALENDAR
