BEGIN:VCALENDAR
PRODID:-//eluceo/ical//2.0/EN
VERSION:2.0
CALSCALE:GREGORIAN
BEGIN:VEVENT
UID:134bb7552be5ebfa6cdb7f95431d0d40
DTSTAMP:20260422T021546Z
SUMMARY:Jewish Healthcare Center Board Meeting
DESCRIPTION:Jewish Federation of Central Massachusetts\nCalendar\nhttps://j
 ewishcentralmass.org/calendar/20cal739\n\nJewish Healthcare Center Board M
 eeting
DTSTART;TZID=America/New_York:20200323T193000
DTEND;TZID=America/New_York:20200323T235959
END:VEVENT
END:VCALENDAR
