BEGIN:VCALENDAR
PRODID:-//eluceo/ical//2.0/EN
VERSION:2.0
CALSCALE:GREGORIAN
BEGIN:VEVENT
UID:0c4a66530e8fb91ac59dde6663090643
DTSTAMP:20260422T175335Z
SUMMARY:Temple Emanuel Sinai Lifelong Learning Workshop
DESCRIPTION:Jewish Federation of Central Massachusetts\nCalendar\nhttps://j
 ewishcentralmass.org/calendar/20cal736\n\nTemple Emanuel Sinai Lifelong Le
 arning Workshop
DTSTART;TZID=America/New_York:20200322T093000
DTEND;TZID=America/New_York:20200322T235959
END:VEVENT
END:VCALENDAR
