BEGIN:VCALENDAR
PRODID:-//eluceo/ical//2.0/EN
VERSION:2.0
CALSCALE:GREGORIAN
BEGIN:VEVENT
UID:1ad8a6248cafa3f35e53afadb8376958
DTSTAMP:20260423T224220Z
SUMMARY:Jewish Community Center Finance Committee
DESCRIPTION:Jewish Federation of Central Massachusetts\nCalendar\nhttps://j
 ewishcentralmass.org/calendar/20cal733\n\nJewish Community Center Finance 
 Committee
DTSTART;TZID=America/New_York:20200317T193000
DTEND;TZID=America/New_York:20200317T235959
END:VEVENT
END:VCALENDAR
