BEGIN:VCALENDAR
PRODID:-//eluceo/ical//2.0/EN
VERSION:2.0
CALSCALE:GREGORIAN
BEGIN:VEVENT
UID:bfce4e0f345cc136b56f0851ecfdd96f
DTSTAMP:20260423T155423Z
SUMMARY:Purim
DESCRIPTION:Jewish Federation of Central Massachusetts\nCalendar\nhttps://j
 ewishcentralmass.org/calendar/20cal726\n\nPurim
DTSTART;TZID=America/New_York:20200310T000100
DTEND;TZID=America/New_York:20200310T235959
END:VEVENT
END:VCALENDAR
