BEGIN:VCALENDAR
PRODID:-//eluceo/ical//2.0/EN
VERSION:2.0
CALSCALE:GREGORIAN
BEGIN:VEVENT
UID:9f372465756bc4a3f1c0011805e0b0a0
DTSTAMP:20260423T073246Z
SUMMARY:Congregation Beth Israel Purim Event
DESCRIPTION:Jewish Federation of Central Massachusetts\nCalendar\nhttps://j
 ewishcentralmass.org/calendar/20cal724\n\nCongregation Beth Israel Purim E
 vent
DTSTART;TZID=America/New_York:20200307T200000
DTEND;TZID=America/New_York:20200307T235959
END:VEVENT
END:VCALENDAR
