BEGIN:VCALENDAR
PRODID:-//eluceo/ical//2.0/EN
VERSION:2.0
CALSCALE:GREGORIAN
BEGIN:VEVENT
UID:7c9180e18caf5e871d95de416ff8d05a
DTSTAMP:20260423T043950Z
SUMMARY:Congregation B'nai Shalom Purim Party
DESCRIPTION:Jewish Federation of Central Massachusetts\nCalendar\nhttps://j
 ewishcentralmass.org/calendar/20cal723\n\nCongregation B'nai Shalom Purim 
 Party
DTSTART;TZID=America/New_York:20200307T193000
DTEND;TZID=America/New_York:20200307T235959
END:VEVENT
END:VCALENDAR
