BEGIN:VCALENDAR
PRODID:-//eluceo/ical//2.0/EN
VERSION:2.0
CALSCALE:GREGORIAN
BEGIN:VEVENT
UID:484a4d4dc78f9250949c4904de8bd928
DTSTAMP:20260422T193953Z
SUMMARY:Temple Emanuel Sinai Purim Party
DESCRIPTION:Jewish Federation of Central Massachusetts\nCalendar\nhttps://j
 ewishcentralmass.org/calendar/20cal722\n\nTemple Emanuel Sinai Purim Party
DTSTART;TZID=America/New_York:20200307T110000
DTEND;TZID=America/New_York:20200307T235959
END:VEVENT
END:VCALENDAR
