BEGIN:VCALENDAR
PRODID:-//eluceo/ical//2.0/EN
VERSION:2.0
CALSCALE:GREGORIAN
BEGIN:VEVENT
UID:830944d963fd3040de8d6ff4c8ff6639
DTSTAMP:20260424T160136Z
SUMMARY:Jewish Community Center Winter Gala Event
DESCRIPTION:Jewish Federation of Central Massachusetts\nCalendar\nhttps://j
 ewishcentralmass.org/calendar/20cal720\n\nJewish Community Center Winter G
 ala Event
DTSTART;TZID=America/New_York:20200229T180000
DTEND;TZID=America/New_York:20200229T235959
END:VEVENT
END:VCALENDAR
