BEGIN:VCALENDAR
PRODID:-//eluceo/ical//2.0/EN
VERSION:2.0
CALSCALE:GREGORIAN
BEGIN:VEVENT
UID:7c851d979dc2b2cec7327d724fbd5005
DTSTAMP:20260424T095136Z
SUMMARY:Jewish Community Center Board Meeting
DESCRIPTION:Jewish Federation of Central Massachusetts\nCalendar\nhttps://j
 ewishcentralmass.org/calendar/20cal719\n\nJewish Community Center Board Me
 eting
DTSTART;TZID=America/New_York:20200226T193000
DTEND;TZID=America/New_York:20200226T235959
END:VEVENT
END:VCALENDAR
