BEGIN:VCALENDAR
PRODID:-//eluceo/ical//2.0/EN
VERSION:2.0
CALSCALE:GREGORIAN
BEGIN:VEVENT
UID:25df5f32163f6a9406a6c59fd445dee1
DTSTAMP:20260423T055533Z
SUMMARY:Temple Emanuel Sinai Lifelong Learning Workshop
DESCRIPTION:Jewish Federation of Central Massachusetts\nCalendar\nhttps://j
 ewishcentralmass.org/calendar/20cal718\n\nTemple Emanuel Sinai Lifelong Le
 arning Workshop
DTSTART;TZID=America/New_York:20200223T093000
DTEND;TZID=America/New_York:20200223T235959
END:VEVENT
END:VCALENDAR
