BEGIN:VCALENDAR
PRODID:-//eluceo/ical//2.0/EN
VERSION:2.0
CALSCALE:GREGORIAN
BEGIN:VEVENT
UID:9e8311be89f8856a2d67849ad9dcfd5c
DTSTAMP:20260423T073126Z
SUMMARY:Presidents Day
DESCRIPTION:Jewish Federation of Central Massachusetts\nCalendar\nhttps://j
 ewishcentralmass.org/calendar/20cal715\n\nPresidents Day
DTSTART;TZID=America/New_York:20200217T000100
DTEND;TZID=America/New_York:20200217T235959
END:VEVENT
END:VCALENDAR
