BEGIN:VCALENDAR
PRODID:-//eluceo/ical//2.0/EN
VERSION:2.0
CALSCALE:GREGORIAN
BEGIN:VEVENT
UID:a5deb24f72ca93297afe4d69377f0da8
DTSTAMP:20260423T035956Z
SUMMARY:Temple Emanuel Sinai Lifelong Learning Workshop
DESCRIPTION:Jewish Federation of Central Massachusetts\nCalendar\nhttps://j
 ewishcentralmass.org/calendar/20cal713\n\nTemple Emanuel Sinai Lifelong Le
 arning Workshop
DTSTART;TZID=America/New_York:20200216T093000
DTEND;TZID=America/New_York:20200216T235959
END:VEVENT
END:VCALENDAR
