BEGIN:VCALENDAR
PRODID:-//eluceo/ical//2.0/EN
VERSION:2.0
CALSCALE:GREGORIAN
BEGIN:VEVENT
UID:0bb3795fc9b230f05ae7ac8a40136565
DTSTAMP:20260421T093836Z
SUMMARY:Shir Joy Concert (snowdate)
DESCRIPTION:Jewish Federation of Central Massachusetts\nCalendar\nhttps://j
 ewishcentralmass.org/calendar/20cal712\n\nShir Joy Concert (snowdate)
DTSTART;TZID=America/New_York:20200215T190000
DTEND;TZID=America/New_York:20200215T235959
END:VEVENT
END:VCALENDAR
