BEGIN:VCALENDAR
PRODID:-//eluceo/ical//2.0/EN
VERSION:2.0
CALSCALE:GREGORIAN
BEGIN:VEVENT
UID:4c46f4842906851576d2b833333711d1
DTSTAMP:20260422T083918Z
SUMMARY:Jewish Community Center Finance Committee
DESCRIPTION:Jewish Federation of Central Massachusetts\nCalendar\nhttps://j
 ewishcentralmass.org/calendar/20cal710\n\nJewish Community Center Finance 
 Committee
DTSTART;TZID=America/New_York:20200211T193000
DTEND;TZID=America/New_York:20200211T235959
END:VEVENT
END:VCALENDAR
