BEGIN:VCALENDAR
PRODID:-//eluceo/ical//2.0/EN
VERSION:2.0
CALSCALE:GREGORIAN
BEGIN:VEVENT
UID:8457103684f9f17bffe2ee018558d87a
DTSTAMP:20260421T054842Z
SUMMARY:Temple Emanuel Sinai Board Meeting
DESCRIPTION:Jewish Federation of Central Massachusetts\nCalendar\nhttps://j
 ewishcentralmass.org/calendar/20cal709\n\nTemple Emanuel Sinai Board Meeti
 ng
DTSTART;TZID=America/New_York:20200210T193000
DTEND;TZID=America/New_York:20200210T235959
END:VEVENT
END:VCALENDAR
