BEGIN:VCALENDAR
PRODID:-//eluceo/ical//2.0/EN
VERSION:2.0
CALSCALE:GREGORIAN
BEGIN:VEVENT
UID:e32d1ba7224091ba7ea2837770cbcb12
DTSTAMP:20260420T105257Z
SUMMARY:Jewish Community Center Camp Kickoff
DESCRIPTION:Jewish Federation of Central Massachusetts\nCalendar\nhttps://j
 ewishcentralmass.org/calendar/20cal706\n\nJewish Community Center Camp Kic
 koff
DTSTART;TZID=America/New_York:20200209T110000
DTEND;TZID=America/New_York:20200209T235959
END:VEVENT
END:VCALENDAR
