BEGIN:VCALENDAR
PRODID:-//eluceo/ical//2.0/EN
VERSION:2.0
CALSCALE:GREGORIAN
BEGIN:VEVENT
UID:21573b74b38a47bc7332a60fafa4694f
DTSTAMP:20260422T110306Z
SUMMARY:Temple Emanuel Sinai Lifelong Learning Workshop
DESCRIPTION:Jewish Federation of Central Massachusetts\nCalendar\nhttps://j
 ewishcentralmass.org/calendar/20cal705\n\nTemple Emanuel Sinai Lifelong Le
 arning Workshop
DTSTART;TZID=America/New_York:20200209T093000
DTEND;TZID=America/New_York:20200209T235959
END:VEVENT
END:VCALENDAR
