BEGIN:VCALENDAR
PRODID:-//eluceo/ical//2.0/EN
VERSION:2.0
CALSCALE:GREGORIAN
BEGIN:VEVENT
UID:1558e47906164958e6cbc3afb398a6f2
DTSTAMP:20260422T022650Z
SUMMARY:Community-wide Souper Bowl
DESCRIPTION:Jewish Federation of Central Massachusetts\nCalendar\nhttps://j
 ewishcentralmass.org/calendar/20cal703\n\nCommunity-wide Souper Bowl
DTSTART;TZID=America/New_York:20200202T090000
DTEND;TZID=America/New_York:20200202T235959
END:VEVENT
END:VCALENDAR
