BEGIN:VCALENDAR
PRODID:-//eluceo/ical//2.0/EN
VERSION:2.0
CALSCALE:GREGORIAN
BEGIN:VEVENT
UID:3a121ac2dc7be4e8ce22841acc9f7b66
DTSTAMP:20260422T220831Z
SUMMARY:Jewish Community Center Film Festival
DESCRIPTION:Jewish Federation of Central Massachusetts\nCalendar\nhttps://j
 ewishcentralmass.org/calendar/20cal702\n\nJewish Community Center Film Fes
 tival
DTSTART;TZID=America/New_York:20200128T000000
DTEND;TZID=America/New_York:20200128T235959
END:VEVENT
END:VCALENDAR
