BEGIN:VCALENDAR
PRODID:-//eluceo/ical//2.0/EN
VERSION:2.0
CALSCALE:GREGORIAN
BEGIN:VEVENT
UID:d0da68290c91ff4a8b9fc3fb6b874878
DTSTAMP:20260424T020721Z
SUMMARY:Jewish Community Center Film Festival
DESCRIPTION:Jewish Federation of Central Massachusetts\nCalendar\nhttps://j
 ewishcentralmass.org/calendar/20cal701\n\nJewish Community Center Film Fes
 tival
DTSTART;TZID=America/New_York:20200126T000000
DTEND;TZID=America/New_York:20200126T235959
END:VEVENT
END:VCALENDAR
