BEGIN:VCALENDAR
PRODID:-//eluceo/ical//2.0/EN
VERSION:2.0
CALSCALE:GREGORIAN
BEGIN:VEVENT
UID:763dbce0100bc89df6ea9d98c1bf5dac
DTSTAMP:20260422T100537Z
SUMMARY:Jewish Community Center Film Festival
DESCRIPTION:Jewish Federation of Central Massachusetts\nCalendar\nhttps://j
 ewishcentralmass.org/calendar/20cal700\n\nJewish Community Center Film Fes
 tival
DTSTART;TZID=America/New_York:20200125T000000
DTEND;TZID=America/New_York:20200125T235959
END:VEVENT
END:VCALENDAR
