BEGIN:VCALENDAR
PRODID:-//eluceo/ical//2.0/EN
VERSION:2.0
CALSCALE:GREGORIAN
BEGIN:VEVENT
UID:07f5f114a40344c90ea5cc785eb92753
DTSTAMP:20260423T154721Z
SUMMARY:Jewish Community Center Board Meeting
DESCRIPTION:Jewish Federation of Central Massachusetts\nCalendar\nhttps://j
 ewishcentralmass.org/calendar/20cal698\n\nJewish Community Center Board Me
 eting
DTSTART;TZID=America/New_York:20200123T193000
DTEND;TZID=America/New_York:20200123T235959
END:VEVENT
END:VCALENDAR
