BEGIN:VCALENDAR
PRODID:-//eluceo/ical//2.0/EN
VERSION:2.0
CALSCALE:GREGORIAN
BEGIN:VEVENT
UID:f959c381c890447bf9d7fadc907da4c4
DTSTAMP:20260423T055323Z
SUMMARY:Jewish Community Center Film Festival
DESCRIPTION:Jewish Federation of Central Massachusetts\nCalendar\nhttps://j
 ewishcentralmass.org/calendar/20cal697\n\nJewish Community Center Film Fes
 tival
DTSTART;TZID=America/New_York:20200121T000000
DTEND;TZID=America/New_York:20200121T235959
END:VEVENT
END:VCALENDAR
