BEGIN:VCALENDAR
PRODID:-//eluceo/ical//2.0/EN
VERSION:2.0
CALSCALE:GREGORIAN
BEGIN:VEVENT
UID:5a7002742c8adac3055717775824af0a
DTSTAMP:20260422T100705Z
SUMMARY:Martin Luther King Day
DESCRIPTION:Jewish Federation of Central Massachusetts\nCalendar\nhttps://j
 ewishcentralmass.org/calendar/20cal696\n\nMartin Luther King Day
DTSTART;TZID=America/New_York:20200120T000100
DTEND;TZID=America/New_York:20200120T235959
END:VEVENT
END:VCALENDAR
