BEGIN:VCALENDAR
PRODID:-//eluceo/ical//2.0/EN
VERSION:2.0
CALSCALE:GREGORIAN
BEGIN:VEVENT
UID:f1ed0a5c09a0c6d29bff4b28e24fdfc4
DTSTAMP:20260423T085818Z
SUMMARY:Temple Emanuel Sinai Walls to Bridges Brotherhood Breakfast
DESCRIPTION:Jewish Federation of Central Massachusetts\nCalendar\nhttps://j
 ewishcentralmass.org/calendar/20cal695\n\nTemple Emanuel Sinai Walls to Br
 idges Brotherhood Breakfast
DTSTART;TZID=America/New_York:20200119T093000
DTEND;TZID=America/New_York:20200119T235959
END:VEVENT
END:VCALENDAR
