BEGIN:VCALENDAR
PRODID:-//eluceo/ical//2.0/EN
VERSION:2.0
CALSCALE:GREGORIAN
BEGIN:VEVENT
UID:bb86de3f925a46449a0c7f2b6cdb1a09
DTSTAMP:20260422T101149Z
SUMMARY:Jewish Community Center Film Festival
DESCRIPTION:Jewish Federation of Central Massachusetts\nCalendar\nhttps://j
 ewishcentralmass.org/calendar/20cal694\n\nJewish Community Center Film Fes
 tival
DTSTART;TZID=America/New_York:20200118T000000
DTEND;TZID=America/New_York:20200118T235959
END:VEVENT
END:VCALENDAR
