BEGIN:VCALENDAR
PRODID:-//eluceo/ical//2.0/EN
VERSION:2.0
CALSCALE:GREGORIAN
BEGIN:VEVENT
UID:7d243de5fcbd591e6133479540196646
DTSTAMP:20260422T044551Z
SUMMARY:Jewish Community Center Film Festival
DESCRIPTION:Jewish Federation of Central Massachusetts\nCalendar\nhttps://j
 ewishcentralmass.org/calendar/20cal693\n\nJewish Community Center Film Fes
 tival
DTSTART;TZID=America/New_York:20200117T000000
DTEND;TZID=America/New_York:20200117T235959
END:VEVENT
END:VCALENDAR
