BEGIN:VCALENDAR
PRODID:-//eluceo/ical//2.0/EN
VERSION:2.0
CALSCALE:GREGORIAN
BEGIN:VEVENT
UID:6a2625d33c658a9f6102dfeb451b3011
DTSTAMP:20260423T185822Z
SUMMARY:Jewish Federation of Central Mass Board Meeting
DESCRIPTION:Jewish Federation of Central Massachusetts\nCalendar\nhttps://j
 ewishcentralmass.org/calendar/20cal692\n\nJewish Federation of Central Mas
 s Board Meeting
DTSTART;TZID=America/New_York:20200114T193000
DTEND;TZID=America/New_York:20200114T235959
END:VEVENT
END:VCALENDAR
