BEGIN:VCALENDAR
PRODID:-//eluceo/ical//2.0/EN
VERSION:2.0
CALSCALE:GREGORIAN
BEGIN:VEVENT
UID:c9211d111a7f992281f4f6669bc5ea3b
DTSTAMP:20260423T160005Z
SUMMARY:Temple Emanuel Sinai Board Meeting
DESCRIPTION:Jewish Federation of Central Massachusetts\nCalendar\nhttps://j
 ewishcentralmass.org/calendar/20cal691\n\nTemple Emanuel Sinai Board Meeti
 ng
DTSTART;TZID=America/New_York:20200113T193000
DTEND;TZID=America/New_York:20200113T235959
END:VEVENT
END:VCALENDAR
