BEGIN:VCALENDAR
PRODID:-//eluceo/ical//2.0/EN
VERSION:2.0
CALSCALE:GREGORIAN
BEGIN:VEVENT
UID:baf85db9747d5934aa8520db7fd643d1
DTSTAMP:20260424T081132Z
SUMMARY:Beth Tikvah Coffee House
DESCRIPTION:Jewish Federation of Central Massachusetts\nCalendar\nhttps://j
 ewishcentralmass.org/calendar/20cal689\n\nBeth Tikvah Coffee House
DTSTART;TZID=America/New_York:20200111T180000
DTEND;TZID=America/New_York:20200111T235959
END:VEVENT
END:VCALENDAR
