BEGIN:VCALENDAR
PRODID:-//eluceo/ical//2.0/EN
VERSION:2.0
CALSCALE:GREGORIAN
BEGIN:VEVENT
UID:3845bd432dca21afbd0c8ab7dea2d900
DTSTAMP:20260424T042442Z
SUMMARY:Beth Tikvah Board Meeting
DESCRIPTION:Jewish Federation of Central Massachusetts\nCalendar\nhttps://j
 ewishcentralmass.org/calendar/20cal688\n\nBeth Tikvah Board Meeting
DTSTART;TZID=America/New_York:20200108T190000
DTEND;TZID=America/New_York:20200108T235959
END:VEVENT
END:VCALENDAR
