BEGIN:VCALENDAR
PRODID:-//eluceo/ical//2.0/EN
VERSION:2.0
CALSCALE:GREGORIAN
BEGIN:VEVENT
UID:87ff81a73787fb5b680999776d02258a
DTSTAMP:20260423T000545Z
SUMMARY:New Years
DESCRIPTION:Jewish Federation of Central Massachusetts\nCalendar\nhttps://j
 ewishcentralmass.org/calendar/20cal687\n\nNew Years
DTSTART;TZID=America/New_York:20200101T000100
DTEND;TZID=America/New_York:20200101T235959
END:VEVENT
END:VCALENDAR
