BEGIN:VCALENDAR
PRODID:-//eluceo/ical//2.0/EN
VERSION:2.0
CALSCALE:GREGORIAN
BEGIN:VEVENT
UID:2ef333ddda7b032acae8be95e207873b
DTSTAMP:20260423T083341Z
SUMMARY:Hanukkah
DESCRIPTION:Jewish Federation of Central Massachusetts\nCalendar\nhttps://j
 ewishcentralmass.org/calendar/20cal686\n\nHanukkah
DTSTART;TZID=America/New_York:20191223T000100
DTEND;TZID=America/New_York:20191230T235959
END:VEVENT
END:VCALENDAR
