BEGIN:VCALENDAR
PRODID:-//eluceo/ical//2.0/EN
VERSION:2.0
CALSCALE:GREGORIAN
BEGIN:VEVENT
UID:c269fee2a9d9ae2422abcfc29334bfc6
DTSTAMP:20260422T152812Z
SUMMARY:Congregation Beth Israel Interfaith Hanukkah Party
DESCRIPTION:Jewish Federation of Central Massachusetts\nCalendar\nhttps://j
 ewishcentralmass.org/calendar/20cal684\n\nCongregation Beth Israel Interfa
 ith Hanukkah Party
DTSTART;TZID=America/New_York:20191222T170000
DTEND;TZID=America/New_York:20191222T235959
END:VEVENT
END:VCALENDAR
