BEGIN:VCALENDAR
PRODID:-//eluceo/ical//2.0/EN
VERSION:2.0
CALSCALE:GREGORIAN
BEGIN:VEVENT
UID:2a7d05152738e6c72d6417307b1a745e
DTSTAMP:20260423T125836Z
SUMMARY:Temple Emanuel Sinai Hanukkah Party
DESCRIPTION:Jewish Federation of Central Massachusetts\nCalendar\nhttps://j
 ewishcentralmass.org/calendar/20cal683\n\nTemple Emanuel Sinai Hanukkah Pa
 rty
DTSTART;TZID=America/New_York:20191222T163000
DTEND;TZID=America/New_York:20191222T235959
END:VEVENT
END:VCALENDAR
